BEGIN:VCALENDAR
VERSION:2.0
PRODID:-//ChamberMaster//Event Calendar 2.0//EN
METHOD:PUBLISH
X-PUBLISHED-TTL:P3D
REFRESH-INTERVAL:P3D
CALSCALE:GREGORIAN
BEGIN:VEVENT
DTSTART:20180412T210000Z
DTEND:20180412T230000Z
X-MICROSOFT-CDO-ALLDAYEVENT:FALSE
SUMMARY:Business After Hours April 2018-Wilson Nature Center
DESCRIPTION:Join us for appetizers\, drinks\, and fun while networking with Chamber Members! This FREE event is open to Chamber members and their employees. Come and go as your schedule allows but don't miss this great opportunity to network!\n\n\n\n*Co-Networking opportunity with the Sandusky County Young Professionals Group!*\n\n \n\nMust be at least 21 to drink alcohol.
X-ALT-DESC;FMTTYPE=text/html:Join us for appetizers\, drinks\, and fun while networking with Chamber Members!&nbsp\;This FREE event is open to Chamber members and their employees.&nbsp\;Come and go as your schedule allows but don&#39\;t miss this great opportunity to network!<br />\n<br />\n*Co-Networking opportunity with the Sandusky County Young Professionals Group!*<br />\n&nbsp\;<br />\nMust be at least 21 to drink alcohol.&nbsp\;
LOCATION:Wilson Nature Center at Creek Bend Farm 654 S. Main St. Lindsey\, OH 43442
UID:e.2014.786
SEQUENCE:3
DTSTAMP:20260424T014546Z
URL:http://business.scchamber.org/events/details/business-after-hours-april-2018-wilson-nature-center-786
END:VEVENT

END:VCALENDAR
