BEGIN:VCALENDAR
VERSION:2.0
PRODID:-//ChamberMaster//Event Calendar 2.0//EN
METHOD:PUBLISH
X-PUBLISHED-TTL:P3D
REFRESH-INTERVAL:P3D
CALSCALE:GREGORIAN
BEGIN:VEVENT
DTSTART:20180306T220000Z
DTEND:20180307T000000Z
X-MICROSOFT-CDO-ALLDAYEVENT:FALSE
SUMMARY:Business After Hours March 2018-Buffalo Wild Wings
DESCRIPTION:Join us for appetizers\, drinks\, and fun while networking with Chamber Members! This FREE event is open to Chamber members and their employees. Come and go as your schedule allows but don't miss this great opportunity to network!\n\n \n\n1 complimentary drink ticket per member employee. \n\nMust be at least 21 to drink alcohol.
X-ALT-DESC;FMTTYPE=text/html:Join us for appetizers\, drinks\, and fun while networking with Chamber Members!&nbsp\;This FREE event is open to Chamber members and their employees.&nbsp\;Come and go as your schedule allows but don&#39\;t miss this great opportunity to network!<br />\n&nbsp\;<br />\n1 complimentary drink ticket per member employee.&nbsp\;<br />\nMust be at least 21 to drink alcohol.&nbsp\;
LOCATION:Buffalo Wild Wings 2200 Sean St. Fremont\, OH 43420
UID:e.2014.785
SEQUENCE:3
DTSTAMP:20260424T030700Z
URL:http://business.scchamber.org/events/details/business-after-hours-march-2018-buffalo-wild-wings-785
END:VEVENT

END:VCALENDAR
