BEGIN:VCALENDAR
VERSION:2.0
PRODID:-//ChamberMaster//Event Calendar 2.0//EN
METHOD:PUBLISH
X-PUBLISHED-TTL:P3D
REFRESH-INTERVAL:P3D
CALSCALE:GREGORIAN
BEGIN:VEVENT
DTSTART:20171013T220000Z
DTEND:20171014T020000Z
X-MICROSOFT-CDO-ALLDAYEVENT:FALSE
SUMMARY:Business After Hours October 2017-Clambake
DESCRIPTION:Business After Hours\n\nClambake\n\n\n\nBring your spouse\, friends\, or colleagues to enjoy food\, beverages\, live music and a cash drawing in the company of both old and new Chamber friends!\n\n\n\n$35 per person\n\n\n\nSponsored by US Bank\n\n\n\n\n\nMenu:\n\nClams\, 1/2 Chicken\, Corn on the Cob\, Baked Potatoes\, Cornbread\, Beer\, Wine\, Soft Drinks & Water\n\n\n\nLive Music by Jordan Wiewandt! Cash Jackpot!
X-ALT-DESC;FMTTYPE=text/html:<p class="MsoNormal"><span style="font-family:verdana\;">Business After Hours</span><br />\n<span style="font-size:48px\;"><span style="color:#000080\;"><span style="font-family:perpetua titling mt\;">Clambake</span></span></span><br />\n<br />\n<span style="font-size:12px\;"><span style="font-family:verdana\;"><span lang="en-US" style="color: black\;">Bring your&nbsp\;spouse\, friends\, or colleagues to enjoy food\, beverages\, live music&nbsp\;</span><span lang="en-US" style="color: black\;">and a cash drawing in the company of both old and new Chamber friends!</span></span></span><br />\n<br />\n<span style="font-size:12px\;"><span style="font-family:verdana\;">$35 per person<br style="line-height: 20.7999992370605px\;" />\n<br />\n<span style="color:#000080\;"><strong><span style="font-size:14px\;">Sponsored by </span></strong></span></span></span><strong><span style="font-size:14px\;"><a href="http://www.usbank.com"><span style="color:#000080\;"><span style="font-family:verdana\;">US Bank</span></span></a></span></strong><br />\n<br />\n<br />\n<span style="font-size:12px\;"><span style="font-family:verdana\;"><strong>Menu:<br />\nClams\, 1/2 Chicken\, Corn on the Cob\, Baked Potatoes\, Cornbread\, Beer\, Wine\, Soft Drinks &amp\; Water</strong></span></span><br />\n<br />\n<strong><span style="font-size:12px\;"><span style="font-family:verdana\;">Live Music by Jordan Wiewandt! Cash Jackpot!</span></span></strong></p>\n
LOCATION:Campfire Misty Meadows 2100 Baker Rd.\, Fremont
UID:e.2014.617
SEQUENCE:3
DTSTAMP:20260424T102125Z
URL:http://business.scchamber.org/events/details/business-after-hours-october-2017-clambake-617
END:VEVENT

END:VCALENDAR
