BEGIN:VCALENDAR
VERSION:2.0
PRODID:-//ChamberMaster//Event Calendar 2.0//EN
METHOD:PUBLISH
X-PUBLISHED-TTL:P3D
REFRESH-INTERVAL:P3D
CALSCALE:GREGORIAN
BEGIN:VEVENT
DTSTART:20171017T163000Z
DTEND:20171017T170000Z
X-MICROSOFT-CDO-ALLDAYEVENT:FALSE
SUMMARY:Executive Committee Meeting
DESCRIPTION:
X-ALT-DESC;FMTTYPE=text/html:
LOCATION:Chamber of Commerce building
UID:e.2014.657
SEQUENCE:3
DTSTAMP:20260424T101555Z
URL:http://business.scchamber.org/events/details/executive-committee-meeting-10-17-2017-657
END:VEVENT

END:VCALENDAR
