BEGIN:VCALENDAR
VERSION:2.0
PRODID:-//ChamberMaster//Event Calendar 2.0//EN
METHOD:PUBLISH
X-PUBLISHED-TTL:P3D
REFRESH-INTERVAL:P3D
CALSCALE:GREGORIAN
BEGIN:VEVENT
DTSTART:20181127T173000Z
DTEND:20181127T180000Z
X-MICROSOFT-CDO-ALLDAYEVENT:FALSE
SUMMARY:Foundation Board Meeting
DESCRIPTION:
X-ALT-DESC;FMTTYPE=text/html:
LOCATION:Chamber of Commerce Conference Room 215 Croghan St. Fremont\, OH 43420
UID:e.2014.853
SEQUENCE:3
DTSTAMP:20260423T145948Z
URL:http://business.scchamber.org/events/details/foundation-board-meeting-853
END:VEVENT

END:VCALENDAR
