BEGIN:VCALENDAR
VERSION:2.0
PRODID:-//ChamberMaster//Event Calendar 2.0//EN
METHOD:PUBLISH
X-PUBLISHED-TTL:P3D
REFRESH-INTERVAL:P3D
CALSCALE:GREGORIAN
BEGIN:VEVENT
DTSTART:20171213T220000Z
DTEND:20171214T000000Z
X-MICROSOFT-CDO-ALLDAYEVENT:FALSE
SUMMARY:Holiday Reception 2017
DESCRIPTION:Join us for Appetizers\, Wine & Holiday Fun at our Annual Holiday Reception\, put on by the Chamber of Commerce & Leadership Sandusky County.\n\n\n\n Live Music
X-ALT-DESC;FMTTYPE=text/html:<span style="font-family:verdana\;">Join us for Appetizers\, Wine &amp\; Holiday Fun at our Annual Holiday Reception\, put on by the Chamber of Commerce &amp\; Leadership Sandusky County.<br />\n<br />\n&nbsp\;Live Music</span>
LOCATION:Rutherford B. Hayes Presidential Museum Spiegel Grove
UID:e.2014.609
SEQUENCE:3
DTSTAMP:20260424T071803Z
URL:http://business.scchamber.org/events/details/holiday-reception-2017-609
END:VEVENT

END:VCALENDAR
